BEGIN:VCALENDAR
VERSION:2.0
PRODID:-//Ackermann-Gemeinde - ECPv6.15.17//NONSGML v1.0//EN
CALSCALE:GREGORIAN
METHOD:PUBLISH
X-ORIGINAL-URL:https://www.ackermann-gemeinde-wuerzburg.de
X-WR-CALDESC:Veranstaltungen für Ackermann-Gemeinde
REFRESH-INTERVAL;VALUE=DURATION:PT1H
X-Robots-Tag:noindex
X-PUBLISHED-TTL:PT1H
BEGIN:VTIMEZONE
TZID:Europe/Berlin
BEGIN:DAYLIGHT
TZOFFSETFROM:+0100
TZOFFSETTO:+0200
TZNAME:CEST
DTSTART:20250330T010000
END:DAYLIGHT
BEGIN:STANDARD
TZOFFSETFROM:+0200
TZOFFSETTO:+0100
TZNAME:CET
DTSTART:20251026T010000
END:STANDARD
BEGIN:DAYLIGHT
TZOFFSETFROM:+0100
TZOFFSETTO:+0200
TZNAME:CEST
DTSTART:20260329T010000
END:DAYLIGHT
BEGIN:STANDARD
TZOFFSETFROM:+0200
TZOFFSETTO:+0100
TZNAME:CET
DTSTART:20261025T010000
END:STANDARD
BEGIN:DAYLIGHT
TZOFFSETFROM:+0100
TZOFFSETTO:+0200
TZNAME:CEST
DTSTART:20270328T010000
END:DAYLIGHT
BEGIN:STANDARD
TZOFFSETFROM:+0200
TZOFFSETTO:+0100
TZNAME:CET
DTSTART:20271031T010000
END:STANDARD
END:VTIMEZONE
BEGIN:VEVENT
DTSTART;TZID=Europe/Berlin:20260621T080000
DTEND;TZID=Europe/Berlin:20260621T170000
DTSTAMP:20260419T152713
CREATED:20251130T193153Z
LAST-MODIFIED:20251130T193153Z
UID:10000130-1782028800-1782061200@www.ackermann-gemeinde-wuerzburg.de
SUMMARY:80. Vertriebenenwallfahrt nach Walldürn mit Weihbischof Dr. Peter Birkhofer
DESCRIPTION:Dieses Jahr laden wir Sie herzlich am Sonntag\, den 21.06.2026 zu der 80. Vertriebenenwallfahrt nach Walldürn mit Weihbischof Dr. Peter Birkhofer. Nach acht Jahrzehnten handelt es sich um die letzte Wallfahrt nach Walldürn. Wir werden uns freuen\, Sie dabei begrüßen zu dürfen.
URL:https://www.ackermann-gemeinde-wuerzburg.de/event/80-vertriebenenwallfahrt-nach-wallduern-mit-weihbischof-dr-peter-birkhofer/
END:VEVENT
BEGIN:VEVENT
DTSTART;TZID=Europe/Berlin:20260624T160000
DTEND;TZID=Europe/Berlin:20260624T170000
DTSTAMP:20260419T152713
CREATED:20251130T193238Z
LAST-MODIFIED:20260412T165455Z
UID:10000131-1782316800-1782320400@www.ackermann-gemeinde-wuerzburg.de
SUMMARY:Gemeinschaftsgottesdienst mit Pfr. Sebastian Krems
DESCRIPTION:Herzliche Einladung zum Gemeinschaftsgottesdienst mit Pfr. Sebastian Krems am Mittwoch\, den 24.06.2026 in der Krypta des Neumünsters ab 16 Uhr. Vor dem Gottesdienst gibt es die Möglichkeit\, sich ab 15 Uhr im Café MARES zu treffen.
URL:https://www.ackermann-gemeinde-wuerzburg.de/event/gemeinschaftsgottesdienst-mit-pfr-sebastian-krems-copy-copy-copy/
END:VEVENT
END:VCALENDAR