BEGIN:VCALENDAR
VERSION:2.0
PRODID:-//Ackermann-Gemeinde - ECPv6.15.17//NONSGML v1.0//EN
CALSCALE:GREGORIAN
METHOD:PUBLISH
X-ORIGINAL-URL:https://www.ackermann-gemeinde-wuerzburg.de
X-WR-CALDESC:Veranstaltungen für Ackermann-Gemeinde
REFRESH-INTERVAL;VALUE=DURATION:PT1H
X-Robots-Tag:noindex
X-PUBLISHED-TTL:PT1H
BEGIN:VTIMEZONE
TZID:Europe/Berlin
BEGIN:DAYLIGHT
TZOFFSETFROM:+0100
TZOFFSETTO:+0200
TZNAME:CEST
DTSTART:20250330T010000
END:DAYLIGHT
BEGIN:STANDARD
TZOFFSETFROM:+0200
TZOFFSETTO:+0100
TZNAME:CET
DTSTART:20251026T010000
END:STANDARD
BEGIN:DAYLIGHT
TZOFFSETFROM:+0100
TZOFFSETTO:+0200
TZNAME:CEST
DTSTART:20260329T010000
END:DAYLIGHT
BEGIN:STANDARD
TZOFFSETFROM:+0200
TZOFFSETTO:+0100
TZNAME:CET
DTSTART:20261025T010000
END:STANDARD
BEGIN:DAYLIGHT
TZOFFSETFROM:+0100
TZOFFSETTO:+0200
TZNAME:CEST
DTSTART:20270328T010000
END:DAYLIGHT
BEGIN:STANDARD
TZOFFSETFROM:+0200
TZOFFSETTO:+0100
TZNAME:CET
DTSTART:20271031T010000
END:STANDARD
END:VTIMEZONE
BEGIN:VEVENT
DTSTART;TZID=Europe/Berlin:20260320T150000
DTEND;TZID=Europe/Berlin:20260320T170000
DTSTAMP:20260419T153216
CREATED:20251130T183525Z
LAST-MODIFIED:20251130T183632Z
UID:10000125-1774018800-1774026000@www.ackermann-gemeinde-wuerzburg.de
SUMMARY:Kreuzwegandacht der Aussiedler- und Vertriebenen mit Pfr. i. R. Adam Possmayer
DESCRIPTION:Herzlich laden wir Sie zu unserer traditionellen Kreuzwegandacht zum Käppele am Freitag\, den 20.03.2026 um 15 Uhr mit Pfr. i. R. Adam Possmayer. Wir freuen uns darauf\, Sie zahlreich begrüßen zu dürfen! \n  \nFoto: Ackermann-Gemeinde Würzburg
URL:https://www.ackermann-gemeinde-wuerzburg.de/event/kreuzwegandacht-der-aussiedler-und-vertriebenen-mit-pfr-i-r-adam-possmayer/
ATTACH;FMTTYPE=image/jpeg:https://www.ackermann-gemeinde-wuerzburg.de/wp-content/uploads/2024/04/kaepelle-1.jpg
END:VEVENT
END:VCALENDAR